BEGIN:VCALENDAR
VERSION:2.0
PRODID:gewerkschaft.gruene-nrw-lve.de
METHOD:PUBLISH
BEGIN:VTIMEZONE
TZID:Europe/Berlin
X-LIC-LOCATION:Europe/Berlin
BEGIN:DAYLIGHT
TZOFFSETFROM:+0100
TZOFFSETTO:+0200
TZNAME:CEST
DTSTART:19700329T020000
RRULE:FREQ=YEARLY;INTERVAL=1;BYDAY=-1SU;BYMONTH=3
END:DAYLIGHT
BEGIN:STANDARD
TZOFFSETFROM:+0200
TZOFFSETTO:+0100
TZNAME:CET
DTSTART:19701025T030000
RRULE:FREQ=YEARLY;INTERVAL=1;BYDAY=-1SU;BYMONTH=10
END:STANDARD
END:VTIMEZONE
BEGIN:VEVENT
UID:12cf8d491e5814e3e9b53556983c6da1@gewerkschaft.gruene-nrw-lve.de
URL;VALUE=URI:https://gewerkschaft.gruene-nrw-lve.de/termine/einladung-de
 r-lag-migflu-und-gewerkschaftsgruen-niedersachsen/
LOCATION:Webinar
SUMMARY:Einladung der LAG MigFlu und GewerkschaftsGrün Niedersachsen
DESCRIPTION;ALTREP="data:text/html,%0A%3Cfigure%20class%3D%22wp-block-ima
 ge%20size-large%22%3E%3Cimg%20src%3D%22https%3A%2F%2Fgewerkschaft.gruene-
 nrw-lve.de%2Ffiles%2F2024%2F04%2Fsharepic_sklavenarbeit-1024x576.jpg%22%2
 0alt%3D%22%22%20class%3D%22wp-image-369%22%20%2F%3E%3C%2Ffigure%3E%0A":
CLASS:PUBLIC
DTSTART;TZID=Europe/Berlin:20240429T180000
DTEND;TZID=Europe/Berlin:20240429T200000
DTSTAMP:20260419T163532
END:VEVENT
END:VCALENDAR